BEGIN:VCALENDAR
VERSION:2.0
PRODID:-//Abbaye de Trois-Fontaines - ECPv5.5.0.1//NONSGML v1.0//EN
CALSCALE:GREGORIAN
METHOD:PUBLISH
X-WR-CALNAME:Abbaye de Trois-Fontaines
X-ORIGINAL-URL:https://www.abbayedetroisfontaines.com
X-WR-CALDESC:évènements pour Abbaye de Trois-Fontaines
BEGIN:VTIMEZONE
TZID:Europe/Paris
BEGIN:DAYLIGHT
TZOFFSETFROM:+0100
TZOFFSETTO:+0200
TZNAME:CEST
DTSTART:20210328T010000
END:DAYLIGHT
BEGIN:STANDARD
TZOFFSETFROM:+0200
TZOFFSETTO:+0100
TZNAME:CET
DTSTART:20211031T010000
END:STANDARD
END:VTIMEZONE
BEGIN:VEVENT
DTSTART;VALUE=DATE:20210801
DTEND;VALUE=DATE:20210823
DTSTAMP:20260422T143016
CREATED:20210629T193117Z
LAST-MODIFIED:20210629T195427Z
UID:4567-1627776000-1629676799@www.abbayedetroisfontaines.com
SUMMARY:• ATELIERS DESSIN D'OBSERVATION
DESCRIPTION:DANS LE CADRE DES DIMANCHES DE L’ABBAYE\,\nATELIERS DESSIN D’OBSERVATION AVEC FLAVIE LEH.\n  \n\n\n\n\nLe dessin d’observation est l’art de reproduire sur le papier\nle monde qui nous entoure le plus fidèlement possible.\n\nNul besoin d’être doué pour apprendre à dessiner !\nFlavie Leh\, artiste et professeure de dessin\, vous propose un atelier\ndans lequel vous pourrez observer un sujet puis le dessiner en tenant\ncompte des proportions\, des éléments de perspective\,\ndes ombres et des lumières.\nPublic : adultes et enfants à partir de 7 ans.\nDurée : 1h.\n\n\n  \nDates des ateliers au choix :\n– Dimanche 1er août à 14h30.\n– Dimanche 8 août à 14h30.\n– Dimanche 15 août à 14h30.\n– Dimanche 22 août à 14h30.\n\n  \n\nLieu :\nAbbaye de Trois-Fontaines\,\nPlace du Château\,\n51340 TROIS-FONTAINES L’ABBAYE.\n\n  \nTarif :\n15€ par personne.\n\n  \nInscription obligatoire  \nau 06 40 20 35 06 ou contact@flavieleh.com \n  \n/ Nombre de place limité / \nPort du masque obligatoire.
URL:https://www.abbayedetroisfontaines.com/agenda/ateliers-dessin-dobservation/
LOCATION:Abbaye de Trois-Fontaines\, Place du Chateau\, TROIS-FONTAINES L'ABBAYE\, 51340\, France
END:VEVENT
END:VCALENDAR