BEGIN:VCALENDAR
VERSION:2.0
PRODID:-//Abbaye de Trois-Fontaines - ECPv5.5.0.1//NONSGML v1.0//EN
CALSCALE:GREGORIAN
METHOD:PUBLISH
X-WR-CALNAME:Abbaye de Trois-Fontaines
X-ORIGINAL-URL:https://www.abbayedetroisfontaines.com
X-WR-CALDESC:évènements pour Abbaye de Trois-Fontaines
BEGIN:VTIMEZONE
TZID:Europe/Paris
BEGIN:DAYLIGHT
TZOFFSETFROM:+0100
TZOFFSETTO:+0200
TZNAME:CEST
DTSTART:20250330T010000
END:DAYLIGHT
BEGIN:STANDARD
TZOFFSETFROM:+0200
TZOFFSETTO:+0100
TZNAME:CET
DTSTART:20251026T010000
END:STANDARD
END:VTIMEZONE
BEGIN:VEVENT
DTSTART;VALUE=DATE:20250517
DTEND;VALUE=DATE:20250518
DTSTAMP:20260420T171523
CREATED:20250317T164939Z
LAST-MODIFIED:20250513T152911Z
UID:6378-1747440000-1747526399@www.abbayedetroisfontaines.com
SUMMARY:• FÊTE DE LA NATURE
DESCRIPTION:  \nFÊTE DE LA NATURE \nle Samedi 17 mai 2025 \nde 10h à 18h \nà l’Abbaye de Trois-Fontaines. \nEntrée et animations gratuites. \n  \nTrois-Fontaines en ébullition : la nature prend le pouvoir ! \nLes bénévoles des Amis des Sites de l’Abbaye de Trois-Fontaines et les équipes de Storengy sont heureux de s’associer pour vous inviter à la Seconde édition de la Fête de la Nature. Durant toute une journée\, venez (re)découvrir la biodiversité du territoire dans un cadre idyllique. \n  \nAu programme : \n\nLe Village Vert (60 exposants) :\n\n– Stands de sensibilisation à la nature et à la biodiversité du territoire (animations et jeux pédagogiques sur les stands). \n– Marché du Terroir avec Producteurs locaux et artisans (Miel\, Fromage\, Maraichers\, Pépinières\, Pâtés\, Glaces fermières\, Confiserie\, Biscuit\, Farine\, Tisanes\, Jus\, Plantes aromatiques\, Huiles essentielles\, Savon\, Maroquinerie\, Poterie\, Décoration fleurs pressées\, Bijoux inspirés de la nature\, Tournage sur bois\, etc.). \n\nExpositions Photos Nature : « Les dernières forêts enchantées de France » de Fabrice MILOCHAU ; « Le Busard » par Christophe Prudhomme ; « Les mares vernales finlandaises au fil des saisons » et « Des Oiseaux et des Hommes – Baguage et Migration » par Pierre Lou Chapot ; « Le Martin Pêcheur » par Stéphane Mikaelis.\n\n\n10h et 11h : Balades sur la reconnaissance du chant des oiseaux avec la Ligue de Protection des Oiseaux (LPO). Départ devant le Stand de la LPO (sur inscription).\n10h30\, 14h30 et 16h30 : Ateliers de composition végétale sur le stand de « 3 fleurs et plus » (sur inscription).\n11h et 16h : Défis nature et sensoriels en famille sur le stand de « L’âne Cœur ».\nL’après-midi sur le stand de la LPO : Ateliers fabrication de nichoirs à oiseaux et de gîtes à chauves-souris.\n14h : Visite guidée botanique et historique du parc de l’abbaye. Départ à l’entrée de l’abbaye.\n11h et 15h : Ciné-débat autour de la projection du film Ramsar par l’Etablissement Public Territorial de Bassin Seine Grands Lacs\, Salle des Communs.\n17h : Conférence interactive « Le sureau aux mille cadeaux » par Sylvain Thomassin\, Salle des Communs.\nToute la journée : Bricolages sur la thématique de la nature et du terroir sur le stand de Sylvain Thomassin\, animateur nature.\nLunaoh\, artisan savonnière proposera sur son stand un espace d’échange dédié au thème « se connecter à son intuition avec les huiles essentielles ».\n« Les Joyeux Emmancheurs d’Outils » proposeront le remplacement des manches usés de vos outils de jardin. Apportez vos outils !\nBalades à poneys dans le parc de l’abbaye.\n\nBuvette et Restauration sur place : \n– PizzaCos : Pizzas au feu de bois. \n– Au Petit Local : Burgers et hot-dogs maisons avec produits locaux. \n– L’Art du Pâté Croûte : Pâtés lorrains. \n  \nInscriptions aux activités : INSCRIPTIONS EN LIGNE ICI ou par mail : clementine.maitrehanche@storengy.com \n \nRenseignements \nAssociation des Amis des Sites de Trois-Fontaines : \nabbayetroisfontaines@gmail.com \n  \nInfos pratiques : \nAbbaye de Trois-Fontaines \nParc & Pavillons de l’Abbaye de Trois-Fontaines \nPlace du Château \n51340 TROIS-FONTAINES L’ABBAYE \n  \nStationnements : \n \n  \nATTENTION DÉVIATION pour les visiteurs en provenance de l’Argonne / Revigny-sur-Ornain (route fermée à Sermaize-les-Bains) > Itinéraire d’accès à Trois-Fontaines l’Abbaye : prendre Mogneville\, Robert-Espagne\, Trois-Fontaines l’abbaye. \n  \n 
URL:https://www.abbayedetroisfontaines.com/agenda/fete-de-la-nature-2/
LOCATION:Abbaye de Trois-Fontaines\, Place du Chateau\, TROIS-FONTAINES L'ABBAYE\, 51340\, France
END:VEVENT
END:VCALENDAR